BEGIN:VCALENDAR
VERSION:2.0
PRODID:-//Squarespace Inc/Squarespace 6//v6//EN
BEGIN:VEVENT
UID:5ae89c2a562fa7f60ae128c3@squarespace.com
DTSTAMP:20180501T170052Z
DTSTART:20180503T230000Z
DTEND:20180504T010000Z
SUMMARY:Refinery ATX - Canvas ATX - Happy Hour
GEO:30.268504;-97.741428
LOCATION:Refinery ATX\, 612 Brazos Street\, Austin\, TX\, 78701\, United St
 ates
END:VEVENT
END:VCALENDAR
