BEGIN:VCALENDAR
VERSION:2.0
PRODID:-//Squarespace Inc/Squarespace 6//v6//EN
BEGIN:VEVENT
UID:5ae8bd0e88251b3f7aeacfdd@squarespace.com
DTSTAMP:20180501T191737Z
DTSTART:20180502T180000Z
DTEND:20180502T193000Z
SUMMARY:PW Session
GEO:30.373486;-97.755187
LOCATION:Live Love Relax\, 8133 Mesa Drive\, Austin\, TX\, 78759\, United S
 tates
END:VEVENT
END:VCALENDAR
