BEGIN:VCALENDAR
VERSION:2.0
PRODID:-//Squarespace Inc/Squarespace 6//v6//EN
BEGIN:VEVENT
UID:5ad6ae9c562fa7457d609487@squarespace.com
DTSTAMP:20180418T023442Z
DTSTART:20180425T210000Z
DTEND:20180425T230000Z
SUMMARY:PW Booking
GEO:30.267153;-97.743061
LOCATION:Austin\, Texas
END:VEVENT
END:VCALENDAR
