BEGIN:VCALENDAR
VERSION:2.0
PRODID:-//Squarespace Inc/Squarespace 6//v6//EN
BEGIN:VEVENT
UID:5ad670d470a6adfa548e7148@squarespace.com
DTSTAMP:20180417T221141Z
DTSTART:20180418T160000Z
DTEND:20180418T173000Z
SUMMARY:Private Wellness Booking
GEO:30.267153;-97.743061
LOCATION:Austin\, Texas
END:VEVENT
END:VCALENDAR
