BEGIN:VCALENDAR
VERSION:2.0
PRODID:-//Squarespace Inc/Squarespace 6//v6//EN
BEGIN:VEVENT
UID:5ad6713470a6adfa548e85c9@squarespace.com
DTSTAMP:20180418T024228Z
DTSTART:20180417T190000Z
DTEND:20180417T230000Z
SUMMARY:Wedding Wellness Shoot
GEO:30.477114;-97.652957
LOCATION:Round Top\, Texas
END:VEVENT
END:VCALENDAR
