BEGIN:VCALENDAR
VERSION:2.0
PRODID:-//Squarespace Inc/Squarespace 6//v6//EN
BEGIN:VEVENT
UID:5ad66ff9f950b7c9b7233511@squarespace.com
DTSTAMP:20180418T023702Z
DTSTART:20180413T130000Z
DTEND:20180413T160000Z
SUMMARY:Vintage Villas
GEO:30.404641;-97.930814
LOCATION:Vintage Villas\, 4209 Eck Lane\, Austin\, TX\, 78734\, United Stat
 es
END:VEVENT
END:VCALENDAR
