BEGIN:VCALENDAR
VERSION:2.0
PRODID:-//Squarespace Inc/Squarespace 6//v6//EN
BEGIN:VEVENT
UID:5ad6aeef8a922d744509cce2@squarespace.com
DTSTAMP:20180418T023633Z
DTSTART:20180417T150000Z
DTEND:20180417T170000Z
SUMMARY:PW Booking
GEO:30.190207;-98.086678
LOCATION:Hill Country Casitas\, Dripping Springs\, Texas
END:VEVENT
END:VCALENDAR
