BEGIN:VCALENDAR
VERSION:2.0
PRODID:-//Squarespace Inc/Squarespace 6//v6//EN
BEGIN:VEVENT
UID:5ad66f14562fa7ab22a322dd@squarespace.com
DTSTAMP:20180417T220631Z
DTSTART:20180411T173000Z
DTEND:20180411T193000Z
SUMMARY:Addison Grove Planner Luncheon
GEO:30.190207;-98.086678
LOCATION:The Addison Grove\, Dripping Springs
END:VEVENT
END:VCALENDAR
