BEGIN:VCALENDAR
VERSION:2.0
PRODID:-//Squarespace Inc/Squarespace 6//v6//EN
BEGIN:VEVENT
UID:5ad6708a03ce64c91c272b0e@squarespace.com
DTSTAMP:20180417T221007Z
DTSTART:20180412T193000Z
DTEND:20180412T213000Z
SUMMARY:Private Wellness Booking
END:VEVENT
END:VCALENDAR
