BEGIN:VCALENDAR
VERSION:2.0
PRODID:-//Squarespace Inc/Squarespace 6//v6//EN
BEGIN:VEVENT
UID:5aa2b7ede2c4831adc9c641b@squarespace.com
DTSTAMP:20180309T163647Z
DTSTART:20180325T190000Z
DTEND:20180325T213000Z
SUMMARY:Private Wellness.DrpSpr.
END:VEVENT
END:VCALENDAR
