BEGIN:VCALENDAR
VERSION:2.0
PRODID:-//Squarespace Inc/Squarespace 6//v6//EN
BEGIN:VEVENT
UID:5a582c93e2c483ae8297147c@squarespace.com
DTSTAMP:20180112T033359Z
DTSTART:20180325T150000Z
DTEND:20180326T010000Z
SUMMARY:Private Event J&D Weekend Event Pending
END:VEVENT
END:VCALENDAR
