BEGIN:VCALENDAR
VERSION:2.0
PRODID:-//Squarespace Inc/Squarespace 6//v6//EN
BEGIN:VEVENT
UID:5a582c2d71c10baff71610f8@squarespace.com
DTSTAMP:20180112T033331Z
DTSTART:20180324T150000Z
DTEND:20180325T010000Z
SUMMARY:Private Event J&D Weekend Event Pending
END:VEVENT
END:VCALENDAR
