BEGIN:VCALENDAR
VERSION:2.0
PRODID:-//Squarespace Inc/Squarespace 6//v6//EN
BEGIN:VEVENT
UID:5a6961b253450ac4bc4fa3dd@squarespace.com
DTSTAMP:20180125T044957Z
DTSTART:20180318T200000Z
DTEND:20180319T000000Z
SUMMARY:Open House @Georgetown Gardens Weddings and Events
GEO:30.637302;-97.634355
LOCATION:Open House @Georgetown Gardens Weddings and Events\, 50503 Indian 
 Creek Drive\, Georgetown\, TX\, 78626\, United States
END:VEVENT
END:VCALENDAR
