BEGIN:VCALENDAR
VERSION:2.0
PRODID:-//Squarespace Inc/Squarespace 6//v6//EN
BEGIN:VEVENT
UID:5aa2b5f8e4966bc18ec1140d@squarespace.com
DTSTAMP:20180309T163126Z
DTSTART:20180312T200000Z
DTEND:20180312T213000Z
SUMMARY:Private Wellness.Pflgv
END:VEVENT
END:VCALENDAR
