BEGIN:VCALENDAR
VERSION:2.0
PRODID:-//Squarespace Inc/Squarespace 6//v6//EN
BEGIN:VEVENT
UID:5aa2b681652dea61b85079d3@squarespace.com
DTSTAMP:20180309T163047Z
DTSTART:20180310T203000Z
DTEND:20180311T003000Z
SUMMARY:Private Wellness.ATX
END:VEVENT
END:VCALENDAR
