BEGIN:VCALENDAR
VERSION:2.0
PRODID:-//Squarespace Inc/Squarespace 6//v6//EN
BEGIN:VEVENT
UID:5a57a710ec212d24a8c39c86@squarespace.com
DTSTAMP:20180111T180622Z
DTSTART:20180225T190000Z
DTEND:20180225T230000Z
SUMMARY:Wedding Wellness @ Hill Country Bridal Show
END:VEVENT
END:VCALENDAR
