BEGIN:VCALENDAR
VERSION:2.0
PRODID:-//Squarespace Inc/Squarespace 6//v6//EN
BEGIN:VEVENT
UID:5a695f51c83025d0fbfba276@squarespace.com
DTSTAMP:20180125T044149Z
DTSTART:20180222T003000Z
DTEND:20180222T023000Z
SUMMARY:Chateau On The Creek
GEO:30.52906;-97.718289
LOCATION:Chateau On the Creek\, 2601 Sam Bass Road\, Round Rock\, TX\, 7868
 1\, United States
END:VEVENT
END:VCALENDAR
