BEGIN:VCALENDAR
VERSION:2.0
PRODID:-//Squarespace Inc/Squarespace 6//v6//EN
BEGIN:VEVENT
UID:5a695dd3f9619adf79502a6e@squarespace.com
DTSTAMP:20180125T043414Z
DTSTART:20180211T210000Z
DTEND:20180212T000000Z
SUMMARY:Open House @ The Addison Grove
GEO:30.229734;-97.976836
LOCATION:The Addison\, 11903 Fitzhugh Road\, Austin\, TX\, 78736\, United S
 tates
END:VEVENT
END:VCALENDAR
