BEGIN:VCALENDAR
VERSION:2.0
PRODID:-//Squarespace Inc/Squarespace 6//v6//EN
BEGIN:VEVENT
UID:5a582bab53450a9c6307b78c@squarespace.com
DTSTAMP:20180125T041953Z
DTSTART:20180127T213000Z
DTEND:20180128T010000Z
SUMMARY:Private Event J&D
END:VEVENT
END:VCALENDAR
