BEGIN:VCALENDAR
VERSION:2.0
PRODID:-//Squarespace Inc/Squarespace 6//v6//EN
BEGIN:VEVENT
UID:5a695b0dec212d357d7c0c2c@squarespace.com
DTSTAMP:20180125T043004Z
DTSTART:20180128T210000Z
DTEND:20180129T010000Z
SUMMARY:Open House/Anniversary @ Ma Maison
GEO:30.255363;-98.1327
LOCATION:Ma Maison\, 2500 Bell Springs Road\, Dripping Springs\, TX\, 78620
 \, United States
END:VEVENT
END:VCALENDAR
