BEGIN:VCALENDAR
VERSION:2.0
PRODID:-//Squarespace Inc/Squarespace 6//v6//EN
BEGIN:VEVENT
UID:5a582b81e2c483ae8296ebcd@squarespace.com
DTSTAMP:20180112T032939Z
DTSTART:20180125T000000Z
DTEND:20180125T030000Z
SUMMARY:Private Event S&R
END:VEVENT
END:VCALENDAR
