BEGIN:VCALENDAR
VERSION:2.0
PRODID:-//Squarespace Inc/Squarespace 6//v6//EN
BEGIN:VEVENT
UID:5a69606de4966b51f6b577ba@squarespace.com
DTSTAMP:20180125T044838Z
DTSTART:20180224T210000Z
DTEND:20180225T010000Z
SUMMARY:Open House @ A Shot of Texas Ranch
GEO:30.775688;-97.683141
LOCATION:A Shot of Texas Ranch\, 201 Cobb Creek Road\, Georgetown\, TX\, 78
 633\, United States
END:VEVENT
END:VCALENDAR
