BEGIN:VCALENDAR
VERSION:2.0
PRODID:-//Squarespace Inc/Squarespace 6//v6//EN
BEGIN:VEVENT
UID:5a582b4b4192026440ec50e9@squarespace.com
DTSTAMP:20180112T032857Z
DTSTART:20180121T200000Z
DTEND:20180121T230000Z
SUMMARY:Private Event T&V
END:VEVENT
END:VCALENDAR
