BEGIN:VCALENDAR
VERSION:2.0
PRODID:-//Squarespace Inc/Squarespace 6//v6//EN
BEGIN:VEVENT
UID:5a695e85f9619adf79504e9e@squarespace.com
DTSTAMP:20180125T044217Z
DTSTART:20180218T190000Z
DTEND:20180218T230000Z
SUMMARY:Georgetown Bridal Show
GEO:30.649241;-97.685861
LOCATION:Geortown Bridal Show\, 1101 Woodlawn Avenue\, Georgetown\, TX. 786
 28\, United States
END:VEVENT
END:VCALENDAR
