BEGIN:VCALENDAR
VERSION:2.0
PRODID:-//Squarespace Inc/Squarespace 6//v6//EN
BEGIN:VEVENT
UID:5a582b28c830250f7baf8510@squarespace.com
DTSTAMP:20180112T033656Z
DTSTART:20180118T000000Z
DTEND:20180118T030000Z
SUMMARY:Private Event M&H
END:VEVENT
END:VCALENDAR
