BEGIN:VCALENDAR
VERSION:2.0
PRODID:-//Squarespace Inc/Squarespace 6//v6//EN
BEGIN:VEVENT
UID:5a582ac0f9619a75a1350e04@squarespace.com
DTSTAMP:20180112T033625Z
DTSTART:20180115T000000Z
DTEND:20180115T030000Z
SUMMARY:Private Event K&O 
END:VEVENT
END:VCALENDAR
