BEGIN:VCALENDAR
VERSION:2.0
PRODID:-//Squarespace Inc/Squarespace 6//v6//EN
BEGIN:VEVENT
UID:5a582a9724a69497e6e9bd5c@squarespace.com
DTSTAMP:20180112T033523Z
DTSTART:20180114T200000Z
DTEND:20180114T230000Z
SUMMARY:Private Event C&B
END:VEVENT
END:VCALENDAR
