BEGIN:VCALENDAR
VERSION:2.0
PRODID:-//Squarespace Inc/Squarespace 6//v6//EN
BEGIN:VEVENT
UID:5a582a7a0d9297c266b5b0cd@squarespace.com
DTSTAMP:20180112T032503Z
DTSTART:20180113T200000Z
DTEND:20180113T230000Z
SUMMARY:Private Event V&V
END:VEVENT
END:VCALENDAR
