BEGIN:VCALENDAR
VERSION:2.0
PRODID:-//Squarespace Inc/Squarespace 6//v6//EN
BEGIN:VEVENT
UID:597be9a16a4963f14f5e0cce@squarespace.com
DTSTAMP:20170729T014940Z
DTSTART:20170729T020000Z
DTEND:20170729T030000Z
SUMMARY:Wedding Party
END:VEVENT
END:VCALENDAR
